BEGIN:VCALENDAR
VERSION:2.0
PRODID:-//Fantastival Dinslaken - ECPv4.7.3//NONSGML v1.0//EN
CALSCALE:GREGORIAN
METHOD:PUBLISH
X-WR-CALNAME:Fantastival Dinslaken
X-ORIGINAL-URL:https://www.fantastival.de
X-WR-CALDESC:Veranstaltungen für Fantastival Dinslaken
BEGIN:VEVENT
DTSTART;TZID=Europe/Berlin:20100808T110000
DTEND;TZID=Europe/Berlin:20100808T110000
DTSTAMP:20260423T130149
CREATED:20130120T230000Z
LAST-MODIFIED:20190206T125149Z
UID:4551-1281265200-1281265200@www.fantastival.de
SUMMARY:8. August 2010 - Literarische Matinée "Literarisches Tafeln mit den Buddenbrooks"
DESCRIPTION:\nAm Sonntag\, den 8.8.2010 heisst es mittags um 12.00 Uhr\nTAFELN MIT DEN BUDDENBROOKS – ein kulinarische Lesung: \nAm 12. August jährt sich Thomas Manns Todestag zum 55. Mal. Aus diesem Anlass erinnern wir mit einer Lesung aus seinem nobelpreisgekrönten Roman Buddenbrooks (1901) und aus seiner persönlichsten\, seinem Herzen am nächsten stehenden Novelle Tonio Kröger (1903). \nEine literarische Matinee begleitet von Speisen\, die an diejenigen aus dem Roman angelehnt sind – serviert im Burginnenhof. \nGenuss mit allen Sinnen : Zunächst wird der Schauspieler und Sprecher Henning Westphal Passagen aus Thomas Manns Jahrhundertoman Buddenbrooks lesen. Bewusst sind solche Passagen gewählt\, die dem Zuhörer kulinarische Bräuche des großbürgerlichen Norddeutschlands näherbringen. Anschließend kann er sich bei einem ausgewählten 4-Gang-Menü verwöhnen lassen und bekommt noch einige launige Zugaben aus Tonio Kröger zu hören. \nWir servieren\nVichyssoise\nFischvariationen\nRaffiniert gefüllte Putenroulade\nZwetschgentarte mit Vanilleguss\nGuten Appetit! \nEinlass: 11.30 Uhr\nBeginn: 12.00 Uhr\nPreis: 33\,00 EUR inkl. 4-Gang-Menü\nKarten im Bürgerbüro Dinslaken oder bei der Freilicht AG\, Telefon: 0 20 64 / 66-222\noder 0 20 64 / 42 444 62. \n10er Tische\, größere Gruppen sollten vorher telefonisch reservieren unter 0 20 64 / 42 444 62.\nVielen Dank! \n
URL:https://www.fantastival.de/event/8-august-2010-literarische-matinee-literarisches-tafeln-mit-den-buddenbrooks/
LOCATION:Freilicht AG\, Am Rutenwall 2\, Dinslaken\, 46535\, Deutschland
GEO:51.5611487;6.7360964
X-APPLE-STRUCTURED-LOCATION;VALUE=URI;X-ADDRESS=Freilicht AG Am Rutenwall 2 Dinslaken 46535 Deutschland;X-APPLE-RADIUS=500;X-TITLE=Am Rutenwall 2:geo:6.7360964,51.5611487
CATEGORIES:2010
ATTACH;FMTTYPE=image/jpeg:https://www.fantastival.de/wp-content/uploads/2010_lesung-henning-westphal_vorschau.jpg
END:VEVENT
END:VCALENDAR