BEGIN:VCALENDAR
VERSION:2.0
PRODID:-//Fantastival Dinslaken - ECPv4.7.3//NONSGML v1.0//EN
CALSCALE:GREGORIAN
METHOD:PUBLISH
X-WR-CALNAME:Fantastival Dinslaken
X-ORIGINAL-URL:https://www.fantastival.de
X-WR-CALDESC:Veranstaltungen für Fantastival Dinslaken
BEGIN:VEVENT
DTSTART;TZID=Europe/Berlin:20100807T190000
DTEND;TZID=Europe/Berlin:20100807T190000
DTSTAMP:20260423T144417
CREATED:20130120T230000Z
LAST-MODIFIED:20190206T125208Z
UID:4552-1281207600-1281207600@www.fantastival.de
SUMMARY:7. August 2010 - Kai Magnus Sting "Die hohe Kunst der Weltrettung"
DESCRIPTION:\nDas Komischste aus dem wirklich wahren Leben \nSind wir nicht alle gerne zu Hause? Und das auch am liebsten? Füße auf dem Tisch\, ein gutes Buch zur Hand\, ein Glas Wein und ab dafür! Heimatabend royal. Balsam für die Seele und den Menschen ein Wohlgefallen und der ganze Zinnober. \nUnd da soll man vor die Türe gehen? Ins Kabaretttheater seines Vertrauens? Ja\, warum denn das? Ganz simpel: Weil der richtig große Wahnsinn immer vor der Türe passiert. Und weil Kai Magnus Sting kommt! Und er hat was mitgebracht: Sich und ein geniales Konglomerat ausgesuchter Schnurren\, Anekdoten\, Geistesblitze und Pamphlete. \nKurzum: Kai Magnus Sting\, der Rastelli der gesprochenen und geschliffenen Rede\, der gnadenlose Menschenbeobachter und Menschenkenner\, der Parodist des Lebens\, Terrorist des Wortes und Meister des Zwischenmenschlichen aber auch der messerscharfe Analytiker des großen Ganzen hat seine Lieblingsnummern der letzten Jahre im Gepäck und die ein oder andere neue Geschichte. Sozusagen ein Lieblingsprogramm für sein Lieblingspublikum. \nOb es die Weckvorhaben in deutschen Hotels sind\, die Kochduelle zwischen Eltern und (erwachsenen!) Kindern an Heiligabend\, Meditationsübungen am lebenden Objekt\, Mozzarellakäufe unter verschärften Bedingungen\, der tagesaktuelle Wahnsinn oder schlicht das kokette Vorhaben\, gleich die ganze Welt zu retten: Sting glänzt jederzeit und brilliert auf den Bühnen dieser Welt. Eine wahre Freude! \nUnd damit es so richtig gemütlich wird: Er ist an dem Abend da\, kommen Sie doch einfach auch. Die hohe Kunst beherrscht er. Und das Komischste zeigt er uns. Heimatabend on tour und on the road. \nEin wahres Höchstvergnügen! \nUnd so schreibt die Presse: \nBrillante Monologe und Wortspielereien. (Flensburger Tageblatt) \nEin Mundwerk wie ein Maschinengewehr. (Mainzer Rheinzeitung) \nKamikaze-Kabarett auf dem Weg in die erste Liga. (WAZ) \nAls könne er den Tod bewusstlos quatschen. (Frankfurter Rundschau) \n
URL:https://www.fantastival.de/event/7-august-2010-kai-magnus-sting-die-hohe-kunst-der-weltrettung/
LOCATION:Burginnenhof
CATEGORIES:2010
ATTACH;FMTTYPE=image/jpeg:https://www.fantastival.de/wp-content/uploads/kai-magnus-sting.jpg
END:VEVENT
END:VCALENDAR