BEGIN:VCALENDAR
VERSION:2.0
PRODID:-//Fantastival Dinslaken - ECPv4.7.3//NONSGML v1.0//EN
CALSCALE:GREGORIAN
METHOD:PUBLISH
X-WR-CALNAME:Fantastival Dinslaken
X-ORIGINAL-URL:https://www.fantastival.de
X-WR-CALDESC:Veranstaltungen für Fantastival Dinslaken
BEGIN:VEVENT
DTSTART;TZID=Europe/Berlin:20081031T190000
DTEND;TZID=Europe/Berlin:20081031T190000
DTSTAMP:20260423T130144
CREATED:20130120T230000Z
LAST-MODIFIED:20190206T125743Z
UID:4580-1225479600-1225479600@www.fantastival.de
SUMMARY:31. Oktober 2008 - Thekentratsch machen’s „Für wen auch immer – In Liebe...“
DESCRIPTION:\nThekentratsch – Das sind die zwei starken Mädels Heike Becker und Kerstin Saddeler-Sierp\, die sich gemeinsam über Gott und die Welt auslassen. Beide in den allerbesten Jahren und darüber hinaus beste Freundinnen. Die „viel zu lang geratene“ Kerstin und die „kleine\, cholerische“ Heike tratschen und singen über ihren täglichen Horror: \nWie sich zum Beispiel Stoffwechselstörungen auf den weiblichen Körper auswirken\, welche Schönheits-OPs nötig sind und wie sie am besten ihre Männer erziehen\, um sie endlich mal ihren Freundinnen zeigen zu können. \nAb jetzt haben die beiden Ladies – übrigens ein Plagiat der Kessler- Zwillinge – noch mehr auf dem Kasten. Sie animieren Männer mit einer tanzbaren Anleitung zum Putzen und zum Jodeln im schicken Dirndl und reißen das Maul noch weiter auf. \nKerstin sagt\, Heikes Enkelin hat das Zählen an ihren Speckrollen gelernt – Heike sagt\, Kerstin sei die größte Birne Dinslakens. Die beiden Frauen schenken sich nichts\, schlagen (verbal) zu\, vertragen sich und tratschen weiter über Männer im Allgemeinen und über die Mutter- Tochter-Beziehung an einem Samstag Morgen um acht Uhr im Speziellen. \nWer bis jetzt nur die Stoffwechselstörungen der beiden Damen kannte darf sich nun auch auf flotte Choreographien im Dirndl\, tanzende Männer und Berichte aus der Anti- Aggressions- Therapie freuen. \nAuch die beiden Zusatztermine im Ledigenheim sind leider bereits ausverkauft. \n  \n
URL:https://www.fantastival.de/event/31-oktober-2008-thekentratsch-machens-fuer-wen-auch-immer-in-liebe/
LOCATION:Ledigenheim Lohberg
CATEGORIES:2008
ATTACH;FMTTYPE=image/jpeg:https://www.fantastival.de/wp-content/uploads/2008_thekentratsch_vorschau.jpg
END:VEVENT
END:VCALENDAR