BEGIN:VCALENDAR
VERSION:2.0
PRODID:-//Fantastival Dinslaken - ECPv4.7.3//NONSGML v1.0//EN
CALSCALE:GREGORIAN
METHOD:PUBLISH
X-WR-CALNAME:Fantastival Dinslaken
X-ORIGINAL-URL:https://www.fantastival.de
X-WR-CALDESC:Veranstaltungen für Fantastival Dinslaken
BEGIN:VEVENT
DTSTART;TZID=Europe/Berlin:20180728T183000
DTEND;TZID=Europe/Berlin:20180728T183000
DTSTAMP:20260423T125951
CREATED:20171211T230000Z
LAST-MODIFIED:20190125T155746Z
UID:4642-1532802600-1532802600@www.fantastival.de
SUMMARY:28.07.2018 - Sommernacht des Musicals
DESCRIPTION:\nEs ist kein Geheimnis mehr\, dass bei dieser Dinslakener Gala die bekanntesten Stars der deutschen Musicalszene zusammenkommen. Hier ereignen sich musikalische Erlebnisse der besonderen Art: Man denke nur an das Unwetter\, das im Jahr 2005 genau zu Yngve Gasoy Romdals „Getsehmane“ aus Jesus Christ Superstar vom Himmel kam. Oder an die Premiere im Jahr 2008 als erstmals die beiden Ur-Elisabeths Pia Douwes und Maya Haakvort gemeinsam auf der Bühne standen. Eindrucksvoll auch das anschließende Feuerwerk über der Kulisse des Burgtheaters. Man darf als Besucher der Musicalnächte immer auf neue Formationen\, Duette\, ja ganze Chöre gespannt sein und ein Auftritt ist überraschender als der andere. So viele Premieren erlebt man selten auf einmal. Dabeisein ist für Musicalfreunde also ein Muss. \nBestätigte Künstler:\nJan Ammann\nSerkan Kaya\nSabrina Weckerlin \nWeitere Künstler werden noch bekannt gegeben. \nDie Veranstaltung ist ausverkauft. \nTickets\n\nAlle aktuellen News gibt es auf der Facebook-Seite der Veranstaltung:\n \n
URL:https://www.fantastival.de/event/28-07-2018-sommernacht-des-musicals/
LOCATION:Burgtheater\, Burgtheater\, Althoffstraße 4\, Dinslaken\, NRW\, 46535\, Deutschland
GEO:51.5622695;6.7314458
X-APPLE-STRUCTURED-LOCATION;VALUE=URI;X-ADDRESS=Burgtheater Burgtheater Althoffstraße 4 Dinslaken NRW 46535 Deutschland;X-APPLE-RADIUS=500;X-TITLE=Burgtheater\, Althoffstraße 4:geo:6.7314458,51.5622695
CATEGORIES:2018
ATTACH;FMTTYPE=image/jpeg:https://www.fantastival.de/wp-content/uploads/2018_sommernacht-des-musicals_vorschau.jpg
ORGANIZER;CN="Freilicht%20AG":MAILTO:info@fantastival.de
END:VEVENT
END:VCALENDAR