BEGIN:VCALENDAR
VERSION:2.0
PRODID:-//Fantastival Dinslaken - ECPv4.7.3//NONSGML v1.0//EN
CALSCALE:GREGORIAN
METHOD:PUBLISH
X-WR-CALNAME:Fantastival Dinslaken
X-ORIGINAL-URL:https://www.fantastival.de
X-WR-CALDESC:Veranstaltungen für Fantastival Dinslaken
BEGIN:VEVENT
DTSTART;TZID=Europe/Berlin:20120724T190000
DTEND;TZID=Europe/Berlin:20120724T190000
DTSTAMP:20260423T130032
CREATED:20130120T230000Z
LAST-MODIFIED:20190206T124455Z
UID:4536-1343156400-1343156400@www.fantastival.de
SUMMARY:24. Juli 2012 - KAI MAGNUS STING "Hömma\, weiß Bescheid!"
DESCRIPTION:\nWenn einer Bescheid weiß\, dann der Mensch aus dem Ruhrgebiet.\nUnd dieses ganze Wissen möchte Kai Magnus Sting mit Ihnen teilen. Er erzählt aus und vom Ruhrgebiet. Also wie er denkt\, der Ruhrgebietsmensch\, was er sagt\, warum er es sagt und was er damit sagt. Grad\, wenn er nichts sagt. Und was er damit meint\, wenn er nichts sagt.\nAber auch ganz typische Geschichten\, wie sie nur im Ruhrgebiet und überall sonst passieren können\, erzählt Sting in seiner gewohnt schnellen und wahnwitzigen Art\, dass einem fast das Zwerchfell platzt. So atemberaubend schnellt Sting von einer sprachlichen Finesse zu der nächsten Anekdote.\nUnd dabei verbeugt Sting sich vor den großen Altmeistern der Region\, also vor denen\, die hier malocht\, geredet\, gedacht\, gelacht und gelebt haben.\nUnd bei alldem merkt man schnell: Das Ruhrgebiet ist überall. Und jeder ist ein Stück Ruhrgebiet.\nKai Magnus Sting präsentiert – mit einer sprachlichen Eloquenz und Genauigkeit – das Ruhrgebiet in uns allen!\nUnd am Ende kannze nur noch sagen: Jou\, ich weiß Bescheid!\nSisse! \n\n
URL:https://www.fantastival.de/event/24-juli-2012-kai-magnus-sting-hoemma-weiss-bescheid/
LOCATION:Burginnenhof
CATEGORIES:2012
ATTACH;FMTTYPE=image/jpeg:https://www.fantastival.de/wp-content/uploads/2012_kai-magnus-sting_vorschau.jpg
END:VEVENT
END:VCALENDAR