BEGIN:VCALENDAR
VERSION:2.0
PRODID:-//Fantastival Dinslaken - ECPv4.7.3//NONSGML v1.0//EN
CALSCALE:GREGORIAN
METHOD:PUBLISH
X-WR-CALNAME:Fantastival Dinslaken
X-ORIGINAL-URL:https://www.fantastival.de
X-WR-CALDESC:Veranstaltungen für Fantastival Dinslaken
BEGIN:VEVENT
DTSTART;TZID=Europe/Berlin:20090824T093000
DTEND;TZID=Europe/Berlin:20090824T093000
DTSTAMP:20260423T130059
CREATED:20130120T230000Z
LAST-MODIFIED:20190206T125404Z
UID:4560-1251106200-1251106200@www.fantastival.de
SUMMARY:24. August 2009 - Kindertheater: Die Bremer Stadtmusikanten
DESCRIPTION:\nEs war einmal ein Mann\, der hatte einen Esel\, welcher schon lange Jahre unverdrossen die Säcke in die Mühle getragen hatte. Nun aber wurde der Esel alt\, seine Kräfte gingen zu Ende\, so dass er zur Arbeit nicht mehr taugte. Da dachte der Herr daran\, ihn wegzugeben. Aber der Esel merkte\, dass sein Herr etwas Böses im Sinn hatte und lief fort. Getreu dem Motto „Etwas Besseres als den Tod findest Du überall“\, macht er sich auf den Weg nach Bremen\, um Musikant zu werden. Unterwegs macht er die Bekanntschaft mit einem Jagdhund\, einer Katze und einem Haushahn. Welche Abenteuer unsere vier neuen Freunde zu überstehen haben\, bis sie endlich zu den weltberühmten Bremer Stadtmusikanten werden\, erleben Sie in dieser zauberhaften Bühnenfassung von Stefan Ey. \nLars Helmer: Inszenierung\nSascha Gratza: Bühnenbild und Kostüme\nGerhard Kappelhoff: Musik \nBereits zum 5. Mal in Folge kann die Freilicht AG innerhalb des Fantastivals das Kindertheaterstück mit tatkräftiger Hilfe der Volksbank Dinslaken realisieren. Herzlichen Dank dafür!\nMit freundlicher Unterstützung des Amtes für Bildung\, Kultur und Stadtgeschichte der Stadt Dinslaken \n
URL:https://www.fantastival.de/event/24-august-2009-kindertheater-die-bremer-stadtmusikanten/
LOCATION:Burgtheater\, Burgtheater\, Althoffstraße 4\, Dinslaken\, NRW\, 46535\, Deutschland
GEO:51.5622695;6.7314458
X-APPLE-STRUCTURED-LOCATION;VALUE=URI;X-ADDRESS=Burgtheater Burgtheater Althoffstraße 4 Dinslaken NRW 46535 Deutschland;X-APPLE-RADIUS=500;X-TITLE=Burgtheater\, Althoffstraße 4:geo:6.7314458,51.5622695
CATEGORIES:2009
ATTACH;FMTTYPE=image/jpeg:https://www.fantastival.de/wp-content/uploads/bremer-stadtmusikanten.jpg
END:VEVENT
END:VCALENDAR