BEGIN:VCALENDAR
VERSION:2.0
PRODID:-//Fantastival Dinslaken - ECPv4.7.3//NONSGML v1.0//EN
CALSCALE:GREGORIAN
METHOD:PUBLISH
X-WR-CALNAME:Fantastival Dinslaken
X-ORIGINAL-URL:https://www.fantastival.de
X-WR-CALDESC:Veranstaltungen für Fantastival Dinslaken
BEGIN:VEVENT
DTSTART;TZID=Europe/Berlin:20090823T170000
DTEND;TZID=Europe/Berlin:20090823T170000
DTSTAMP:20260423T130154
CREATED:20130120T230000Z
LAST-MODIFIED:20190206T125428Z
UID:4561-1251046800-1251046800@www.fantastival.de
SUMMARY:23. August 2009 - Junge Sommernacht der Klassik: Ahn-Trio & friends
DESCRIPTION:\nAus New York: Ahn-Trio & friends \nDie Schwestern begeistern ihr Publikum mit traumwandlerisch sicherem Zusammenspiel\, feinfühliger Klangbalance und jugendlich temperamentvollem Zugriff. (Frankfurter Allgemeine Zeitung) \nDie Junge Sommernacht der Klassik wird erstmals international\, denn die Stadtwerke Dinslaken holen das Trio (Klavier\, Cello\, Geige) über den großen Teich nach Dinslaken auf die Fantastival-Bühne. Alles ist neu: Die drei jungen Frauen präsentieren im Rahmen des beliebten Formats erstmals Kammermusik\, vieles aus dem Repertoire wurde eigens für die Schwestern komponiert. Den unkonventionellen Ahns aus New York gelingt es dabei immer wieder\, ein großes Publikum und Kritiker zu begeistern. Auch bekannte Titel aus der Pop- und Jazzsparte interpretieren die New-Yorker Künstlerinnen auf unverwechselbare Weise. Gemeinsam mit weiteren ausgesuchten Künstlern wird Ihnen das Ahn-Trio einen unvergeßlichen Abend bereiten. \nDank des unermüdlichen und langfristigen Engagements der Stadtwerke kann erstmals ein so großartiges Ensemble von internationalem Format im Rahmen des Fantastivals gastieren. \n
URL:https://www.fantastival.de/event/23-august-2009-junge-sommernacht-der-klassik-ahn-trio-friends/
LOCATION:Burgtheater\, Burgtheater\, Althoffstraße 4\, Dinslaken\, NRW\, 46535\, Deutschland
GEO:51.5622695;6.7314458
X-APPLE-STRUCTURED-LOCATION;VALUE=URI;X-ADDRESS=Burgtheater Burgtheater Althoffstraße 4 Dinslaken NRW 46535 Deutschland;X-APPLE-RADIUS=500;X-TITLE=Burgtheater\, Althoffstraße 4:geo:6.7314458,51.5622695
CATEGORIES:2009
ATTACH;FMTTYPE=image/jpeg:https://www.fantastival.de/wp-content/uploads/2009_ahn-trio_vorschau.jpg
END:VEVENT
END:VCALENDAR