BEGIN:VCALENDAR
VERSION:2.0
PRODID:-//Fantastival Dinslaken - ECPv4.7.3//NONSGML v1.0//EN
CALSCALE:GREGORIAN
METHOD:PUBLISH
X-WR-CALNAME:Fantastival Dinslaken
X-ORIGINAL-URL:https://www.fantastival.de
X-WR-CALDESC:Veranstaltungen für Fantastival Dinslaken
BEGIN:VEVENT
DTSTART;TZID=Europe/Berlin:20140722T190000
DTEND;TZID=Europe/Berlin:20140722T190000
DTSTAMP:20260423T143257
CREATED:20140406T220000Z
LAST-MODIFIED:20190206T123716Z
UID:4607-1406055600-1406055600@www.fantastival.de
SUMMARY:22. Juli 2014 - Christine Westermann liest
DESCRIPTION:\nAnfang Dezember ist Christine Westermann 65 Jahre alt geworden. Für sie allerdings kein Grund in Rente zu gehen. Denn schließlich macht ihr die Arbeit mehr Spaß denn je. Und vieles geht ihr sogar leichter und besser von der Hand. In den letzten zwei Jahren hat Christine Westermann ein Buch über die schweren und leichten Momente des Älterwerdens geschrieben\, das Anfang November 2013 erschienen ist. \n„Das Alter holt dich nicht ein\, es kommt dir entgegen.“ Ebenso neugierig wie zweifelnd und ängstlich sieht die Journalistin dem kommenden Lebensabschnitt entgegen. In ihrem warmherzigen\, mit großer Aufrichtigkeit geschriebenen Buch stellt sie sich\, ernst und heiter zugleich\, sehr persönliche Fragen. \n  \n \nJetzt bei Facebook zusagen:  \n  \n
URL:https://www.fantastival.de/event/22-juli-2014-christine-westermann-liest/
LOCATION:Burginnenhof
CATEGORIES:2014
ATTACH;FMTTYPE=image/jpeg:https://www.fantastival.de/wp-content/uploads/2014_christine-westermann_vorschau.jpg
END:VEVENT
END:VCALENDAR