BEGIN:VCALENDAR
VERSION:2.0
PRODID:-//Fantastival Dinslaken - ECPv4.7.3//NONSGML v1.0//EN
CALSCALE:GREGORIAN
METHOD:PUBLISH
X-WR-CALNAME:Fantastival Dinslaken
X-ORIGINAL-URL:https://www.fantastival.de
X-WR-CALDESC:Veranstaltungen für Fantastival Dinslaken
BEGIN:VEVENT
DTSTART;TZID=Europe/Berlin:20090820T183000
DTEND;TZID=Europe/Berlin:20090820T183000
DTSTAMP:20260423T130027
CREATED:20130120T230000Z
LAST-MODIFIED:20190206T125523Z
UID:4564-1250793000-1250793000@www.fantastival.de
SUMMARY:20. August 2009 - Ingo Appelt "Männer muss man schlagen!"
DESCRIPTION:\nEr nimmt kein Blatt vor den Mund und sagt uns allen schonungslos die Wahrheit ins Gesicht: Ingo Appelt – Pionier und das Enfant Terrible der deutschen Comedy-Szene. Auch mit seinem neuen Programm „Männer muss man schlagen!“ begeistert er die Zuschauer. \nMänner sind einfach gefährlich\, hat Appelt erkannt. Stellen sie doch mit ihrer kindlichen Freude an jeglicher Form von Zerstörung die größtmögliche Bedrohung der Welt und im Alltag dar. Einst war der Mann der König der Menschheit\, heute ist er ein testosterongesteuertes Sicherheitsrisiko in Person\, ein blöder Dreckskerl. Der Mann von heute hört einfach nicht und muss erst mal wieder ein Resozialisierungsprogramm unterlaufen. Und niemand könnte diesen Auftrag besser erfüllen\, als Ingo Appelt\, dem einzig wahren Bewährungshelfer im Dienste seiner Majestät\, der Frau! \nDas Tolle ist: Es funktioniert. Die Männer sind aufgeschreckt und verängstigt. Der Verlust von Überlegenheitsgefühlen ist dabei eine schmerzliche Erfahrung. In allen Disziplinen wird er zudem überholt. Ob im Kanzleramt\, im Haushalt oder bei der Familienplanung. Der Mann\, einst stolzer König der Menschheit\, herabgestiegen zum Sitzpinkler und nutzlosem Geburtsbeisitzer! Der Kampf um den letzten Platz hat längst begonnen. \nIngo Appelt bringt zwei Stunden lang Licht in die Finsternis des Lebens. Die Multifunktionswaffe gegen den modernen Geschlechterkampf spielt beeindruckend mit Komik und Kabarett\, mit Imitation und Improvisation\, mit Parodie und Publikum. \nOb Beziehungen\, Emanzipation\, Politik\, Ossis\, Wessis oder andere Nachbarn – Ingo Appelt verschont nichts und niemanden. Selbst vor der Kirche macht er keinen Halt. Dabei stellt er wieder einmal unter Beweis\, dass man mit Nettigkeit nicht weiter kommt. Nur\, wer wie Ingo Appelt gnadenlos die Wahrheit sagt\, kann uns die Augen öffnen. Direkt und mit mindestens einer Nebenwirkung: Man wird die Welt nie mehr so sehen und nehmen\, wie vorher. Mit Eigenironie und Selbstverarschung in eine gelassenere Zukunft! \nEine Kooperation der Freilicht AG mit dem Amt für\nBildung\, Kultur und Stadtgeschichte der Stadt Dinslaken \n  \n
URL:https://www.fantastival.de/event/20-august-2009-ingo-appelt-maenner-muss-man-schlagen/
LOCATION:Burgtheater\, Burgtheater\, Althoffstraße 4\, Dinslaken\, NRW\, 46535\, Deutschland
GEO:51.5622695;6.7314458
X-APPLE-STRUCTURED-LOCATION;VALUE=URI;X-ADDRESS=Burgtheater Burgtheater Althoffstraße 4 Dinslaken NRW 46535 Deutschland;X-APPLE-RADIUS=500;X-TITLE=Burgtheater\, Althoffstraße 4:geo:6.7314458,51.5622695
CATEGORIES:2009
ATTACH;FMTTYPE=image/jpeg:https://www.fantastival.de/wp-content/uploads/2009_ingo-appelt_vorschau.jpg
END:VEVENT
END:VCALENDAR