BEGIN:VCALENDAR
VERSION:2.0
PRODID:-//Fantastival Dinslaken - ECPv4.7.3//NONSGML v1.0//EN
CALSCALE:GREGORIAN
METHOD:PUBLISH
X-WR-CALNAME:Fantastival Dinslaken
X-ORIGINAL-URL:https://www.fantastival.de
X-WR-CALDESC:Veranstaltungen für Fantastival Dinslaken
BEGIN:VEVENT
DTSTART;TZID=Europe/Berlin:20130719T190000
DTEND;TZID=Europe/Berlin:20130719T190000
DTSTAMP:20260423T143308
CREATED:20130319T230000Z
LAST-MODIFIED:20190206T124113Z
UID:4597-1374260400-1374260400@www.fantastival.de
SUMMARY:19. Juli 2013 - STEFANIE HEINZMANN
DESCRIPTION:mit Band\nBei der jungen Schweizerin (24) kann man von einer Traum-Karriere sprechen: 1989 in der Schweiz geboren gewinnt Stefanie Heinzmann mit gerade mal 18 Jahren souverän Stefan Raabs Castingshow\, erhält einen Plattenvertrag bei Universal und landet mit ihrer ersten Single „My Man Is A Mean Man“ einen wahrhaftigen Hit. Das zugehörige Debütalbum „Masterplan“ holt Platin\, es regnet nationale und internationale Auszeichnungen (Echo\, Swiss Music Award\, Comet). Anders als die meisten Castingshow-Gewinner schafft es Stefanie Heinzmann aber\, sich auch nach dem Castingshow-Hype in der Musikwelt zu behaupten. Schon das Nachfolgealbum „Roots to Grow“ (2009) zeigt: Das ist eine Newcomerin mit Substanz. Gesundheitliche Probleme bremsen dann die kometenhafte Karriere: Stefanie muss sich einer Bandscheiben- und einer Stimmbandoperation unterziehen\, erst Ende 2011 beginnt die Arbeit am dritten Album\, das im März 2012 erscheint. „Stefanie Heinzmann“ enthält neben Eigenkompositionen auch Lieder von Eric Bazilian (The Hooters)\, Jamie Cullum und Kim Sanders. Funk & Soul mit einer Prise Pop und Jazz und dazu eine ganz große Stimme\, die an ihr Vorbild Joss Stone oder an die verstorbene Amy Winehouse erinnert. Die Selbstverständlichkeit\, mit der Stefanie sich in den unterschiedlichsten Genres zuhause fühlt\, beeindruckt. Ihre neuen Songs\, darunter die Single „Diggin’ in the Dirt“\, strahlen eine Souveränität aus\, die nach Gelassenheit und Reife klingt. „Ich brauche die Abwechslung“\, sagt die Sängerin. „Mir ist es nicht genug nur einen Stil zu singen. Für mich ist es total wichtig\, viele Facetten zu haben.“ Diese Facetten und Emotionen wird sie auch live ausleben: Mal ruhig\, verletzlich\, unsicher und scheu und dann wieder aufbrausend\, lustig und selbstbewusst. Von der eleganten Ballade bis zum Up-Tempo-Song mit unverschämtem Ohrwurm-Appeal\, von Motown-Abklängen bis zu lupenreinem Pop.\nStefanie Heinzmann – viel mehr als ein Casting-Sternchen. Im Showbusiness werden Masken schnell unbequem\, unverkrampfte Gradlinigkeit wird dagegen niemals alt\, erst recht nicht\, wenn sie so charmant präsentiert wird. Wie sagt sie doch gleich selbstbewusst über ihr neues Album: „Ich weiß\, wer ich bin\, und ich weiß auch\, wie das klingen soll.“ \nSupport: Mottek – Rock aus dem Ruhrgebiet \n \n \nMit freundlicher Unterstützung von: \n    \n
URL:https://www.fantastival.de/event/19-juli-2013-stefanie-heinzmann/
LOCATION:Burgtheater\, Burgtheater\, Althoffstraße 4\, Dinslaken\, NRW\, 46535\, Deutschland
GEO:51.5622695;6.7314458
X-APPLE-STRUCTURED-LOCATION;VALUE=URI;X-ADDRESS=Burgtheater Burgtheater Althoffstraße 4 Dinslaken NRW 46535 Deutschland;X-APPLE-RADIUS=500;X-TITLE=Burgtheater\, Althoffstraße 4:geo:6.7314458,51.5622695
CATEGORIES:2013
ATTACH;FMTTYPE=image/jpeg:https://www.fantastival.de/wp-content/uploads/2013_stefanie-heinzmann_vorschau.jpg
END:VEVENT
END:VCALENDAR