BEGIN:VCALENDAR
VERSION:2.0
PRODID:-//Fantastival Dinslaken - ECPv4.7.3//NONSGML v1.0//EN
CALSCALE:GREGORIAN
METHOD:PUBLISH
X-WR-CALNAME:Fantastival Dinslaken
X-ORIGINAL-URL:https://www.fantastival.de
X-WR-CALDESC:Veranstaltungen für Fantastival Dinslaken
BEGIN:VEVENT
DTSTART;TZID=Europe/Berlin:20070617T170000
DTEND;TZID=Europe/Berlin:20070617T170000
DTSTAMP:20260423T130011
CREATED:20130120T230000Z
LAST-MODIFIED:20190206T130325Z
UID:4586-1182099600-1182099600@www.fantastival.de
SUMMARY:17. Juni 2007 - Junge Sommernacht der Klassik "Passione & Amore"
DESCRIPTION:\nDie neue Philharmonie Westfalen unter der Leitung ihres neuen GMD Heiko Mathias Förster ist dem Dinslakener Publikum durchaus nicht mehr unbekannt. Das hervorragende Orchester widmet sich in diesem Jahr dem Puccini-Jubiläum und generell dem leidenschaftlichen italienischen Orchestergut. Dabei bietet es jungen Nachwuchskünstlern wieder eine attraktive Plattform\, um sich dem interessierten Publikum vorstellen zu können. Das vorgesehene Programm sieht folgende Werke vor: \nGiacomo Puccini Arien und Duette aus La Bohème und Madame Butterfly\nPeter Tschaikowsky Capriccio Italien\nGiuseppe Verdi I vespri siciliani und Auszüge aus La Traviata\nDi Capua O sole mio \n
URL:https://www.fantastival.de/event/17-juni-2007-junge-sommernacht-der-klassik-passione-amore/
LOCATION:Burgtheater\, Burgtheater\, Althoffstraße 4\, Dinslaken\, NRW\, 46535\, Deutschland
GEO:51.5622695;6.7314458
X-APPLE-STRUCTURED-LOCATION;VALUE=URI;X-ADDRESS=Burgtheater Burgtheater Althoffstraße 4 Dinslaken NRW 46535 Deutschland;X-APPLE-RADIUS=500;X-TITLE=Burgtheater\, Althoffstraße 4:geo:6.7314458,51.5622695
CATEGORIES:2007
ATTACH;FMTTYPE=image/jpeg:https://www.fantastival.de/wp-content/uploads/junge-sommernacht-der-klassik-passione-amore.jpg
END:VEVENT
END:VCALENDAR