BEGIN:VCALENDAR
VERSION:2.0
PRODID:-//Fantastival Dinslaken - ECPv4.7.3//NONSGML v1.0//EN
CALSCALE:GREGORIAN
METHOD:PUBLISH
X-WR-CALNAME:Fantastival Dinslaken
X-ORIGINAL-URL:https://www.fantastival.de
X-WR-CALDESC:Veranstaltungen für Fantastival Dinslaken
BEGIN:VEVENT
DTSTART;TZID=Europe/Berlin:20070615T203000
DTEND;TZID=Europe/Berlin:20070615T203000
DTSTAMP:20260423T143514
CREATED:20130120T230000Z
LAST-MODIFIED:20190206T130411Z
UID:4588-1181939400-1181939400@www.fantastival.de
SUMMARY:15. Juni 2007 - Us & Them plays Pink Floyd
DESCRIPTION:\nSeit 1997 sind Us & Them als eine der beeindruckendsten Cover-Bands im deutschsprachigen Raum bekannt\, eine große Bandbreite der Musik von Pink Floyd wird nahezu original getreu dargeboten. Die Pink Floyd Tribute Band um den technischen und musikalischen Leiter Michael Kern rekrutiert sich aus Musikern aus dem Rurgebiet (tatsächlich ohne h )\, Köln und Aachen und hat ihren Sitz in Düren westlich von Köln. In ihrer von jeher großen Besetzung besteht die Band aus 13 Personen. So geben neun Musiker auf der Bühne\, drei Techniker davor und ein Manager hinter den Kulissen ein jedes Mal auf’s Neue ihr Bestes. Dadurch ermöglicht Us & Them dem Publikum ein tiefes Eintauchen in die immerhin über 30 Jahre währende Schaffenszeit der Originalband. \nUs & Them reproduziert auf seine Weise sehr detailgetreu jenen schwülen und psychedelischen Sound der Konzeptalben Dark Side of the Moon und Wish You Were Here aus den frühen siebziger Jahren genauso wie die rockigeren Songs und Balladen aus den Eighties. Aber auch die Hits der späten Alben und aus der Waters Solokarriere gehören zum Programm. \nDie beeindruckende Besetzung besteht zwei Gitarren inkl. Hawai-Steel\, Drums\, Bass\, zwei Keyboard-Sets\, Frontgesang\, Chorgesang und Saxofon. \n
URL:https://www.fantastival.de/event/15-juni-2007-us-them-plays-pink-floyd/
LOCATION:Burgtheater\, Burgtheater\, Althoffstraße 4\, Dinslaken\, NRW\, 46535\, Deutschland
GEO:51.5622695;6.7314458
X-APPLE-STRUCTURED-LOCATION;VALUE=URI;X-ADDRESS=Burgtheater Burgtheater Althoffstraße 4 Dinslaken NRW 46535 Deutschland;X-APPLE-RADIUS=500;X-TITLE=Burgtheater\, Althoffstraße 4:geo:6.7314458,51.5622695
CATEGORIES:2007
ATTACH;FMTTYPE=image/jpeg:https://www.fantastival.de/wp-content/uploads/pink-floyd.jpg
END:VEVENT
END:VCALENDAR