BEGIN:VCALENDAR
VERSION:2.0
PRODID:-//Fantastival Dinslaken - ECPv4.7.3//NONSGML v1.0//EN
CALSCALE:GREGORIAN
METHOD:PUBLISH
X-WR-CALNAME:Fantastival Dinslaken
X-ORIGINAL-URL:https://www.fantastival.de
X-WR-CALDESC:Veranstaltungen für Fantastival Dinslaken
BEGIN:VEVENT
DTSTART;TZID=Europe/Berlin:20130914T190000
DTEND;TZID=Europe/Berlin:20130914T190000
DTSTAMP:20260423T155934
CREATED:20130210T230000Z
LAST-MODIFIED:20190206T123947Z
UID:4594-1379185200-1379185200@www.fantastival.de
SUMMARY:14. September 2013 - Sondertermin: VOLKER PISPERS
DESCRIPTION:…bis neulich\nUnter dem Titel “Bis Neulich” spielt Volker Pispers ein munter vor sich hinwucherndes und mutierendes Kabarettprogramm\, das im Herbst 2002 als BEST OF aus 20 Jahren das Bühnenlicht erblickt hat und mittlerweile eine ständig aktualisierte\, wilde Mischung aus ganz alten und ganz neuen Texten ist. \nAls “Kabarettprogramm in progress” ist kein Abend genau wie der andere\, und wenn Sie “Bis Neulich” ein paar Monate später wieder besuchen\, werden Sie schon wieder Einiges vermissen\, was Sie heute gehört haben und Einiges hören\, was Sie heute zwangsläufig vermissen mußten. \nSo spiegelt das Programm den Zustand der Republik: Das Immerneue im Ewiggleichen. Denn während uns der Medienzirkus mit seinen Sprechblasenjongleuren vorgaukelt\, daß ständig etwas passiert\, tut sich bei den grundlegenden Problemen so gut wie gar nichts. \nSeinen grundlegenden Stil hat Volker Pispers dabei über die Jahre nicht verändert. Er ist der freundliche und scheinbar harmlos daherredende Conférencier geblieben\, der – eben noch lächelnd – plötzlich hundsgemein werden kann. Respekt sucht man in Pispers´ Programmen vergeblich. Unverblümt\, kraß und direkt pendelt er zwischen bitterböse und charmant-witzig\, wenn er die Absurditäten der Welt zu Ende denkt. Seine Verarbeitung von Zitaten\, seine gewagten Rechenoperationen und seine Zukunftsszenarien versöhnen das Publikum durch ein befreiendes Lachen mit seiner eigenen gefühlten Wirklichkeit. \n \nMit freundlicher Unterstützung von:\nZweirad Vogel \n  \n
URL:https://www.fantastival.de/event/14-september-2013-sondertermin-volker-pispers/
LOCATION:Burgtheater\, Burgtheater\, Althoffstraße 4\, Dinslaken\, NRW\, 46535\, Deutschland
GEO:51.5622695;6.7314458
X-APPLE-STRUCTURED-LOCATION;VALUE=URI;X-ADDRESS=Burgtheater Burgtheater Althoffstraße 4 Dinslaken NRW 46535 Deutschland;X-APPLE-RADIUS=500;X-TITLE=Burgtheater\, Althoffstraße 4:geo:6.7314458,51.5622695
CATEGORIES:2013
ATTACH;FMTTYPE=image/jpeg:https://www.fantastival.de/wp-content/uploads/pispers-uebersicht.jpg
END:VEVENT
END:VCALENDAR