BEGIN:VCALENDAR
VERSION:2.0
PRODID:-//Fantastival Dinslaken - ECPv4.7.3//NONSGML v1.0//EN
CALSCALE:GREGORIAN
METHOD:PUBLISH
X-WR-CALNAME:Fantastival Dinslaken
X-ORIGINAL-URL:https://www.fantastival.de
X-WR-CALDESC:Veranstaltungen für Fantastival Dinslaken
BEGIN:VEVENT
DTSTART;TZID=Europe/Berlin:20130713T193000
DTEND;TZID=Europe/Berlin:20130713T193000
DTSTAMP:20260423T160438
CREATED:20130319T230000Z
LAST-MODIFIED:20190206T124222Z
UID:4595-1373743800-1373743800@www.fantastival.de
SUMMARY:13. Juli 2013 - HERBERT KNEBELS AFFENTHEATER
DESCRIPTION:Der Letzte macht dat Licht aus\nZUSATZTERMIN!! \nDat darf doch wohl nich wahr sein! Schon wieder en neues Knebel-Programm\, schon dat 13.! Nach all die langen Jahre! Wie kann einem nur so viel einfallen?! Aber zum Glück fällt uns ja immer noch wat ein! Zum Beispiel der Titel „Der Letzte macht dat Licht aus“. Mein Gott\, wat fürn Titel! Da hat man sofort dat Gefühl\, den kenn ich doch! Und dat macht eben en guten Titel aus! So wie „Doktor Schiwago“\, „Vom Winde verweht“ oder „Denn sie wissen nich\, wat sie tun“. Übrigens auch kein schlechter Programmtitel für unser Programm! Aber den konnten wir nich nehmen\, weil wir dat Gefühl hatten\, den gibt et schon. \nInhaltlich geht et übrigens dadrum\, wat ein Titel nich besser auszudrücken vermag! Ja dann viel Spass! \n  \n
URL:https://www.fantastival.de/event/13-juli-2013-herbert-knebels-affentheater/
LOCATION:Burgtheater\, Burgtheater\, Althoffstraße 4\, Dinslaken\, NRW\, 46535\, Deutschland
GEO:51.5622695;6.7314458
X-APPLE-STRUCTURED-LOCATION;VALUE=URI;X-ADDRESS=Burgtheater Burgtheater Althoffstraße 4 Dinslaken NRW 46535 Deutschland;X-APPLE-RADIUS=500;X-TITLE=Burgtheater\, Althoffstraße 4:geo:6.7314458,51.5622695
CATEGORIES:2013
ATTACH;FMTTYPE=image/jpeg:https://www.fantastival.de/wp-content/uploads/2013_herbert-knebels-affentheater_vorschau.jpg
END:VEVENT
END:VCALENDAR